BEGIN:VCALENDAR
VERSION:2.0
PRODID:-//Forêt d&#039;Étoiles - ECPv6.15.18//NONSGML v1.0//EN
CALSCALE:GREGORIAN
METHOD:PUBLISH
X-ORIGINAL-URL:https://foret-d-etoiles.ch
X-WR-CALDESC:Évènements pour Forêt d&#039;Étoiles
REFRESH-INTERVAL;VALUE=DURATION:PT1H
X-Robots-Tag:noindex
X-PUBLISHED-TTL:PT1H
BEGIN:VTIMEZONE
TZID:Europe/Amsterdam
BEGIN:DAYLIGHT
TZOFFSETFROM:+0100
TZOFFSETTO:+0200
TZNAME:CEST
DTSTART:20250330T010000
END:DAYLIGHT
BEGIN:STANDARD
TZOFFSETFROM:+0200
TZOFFSETTO:+0100
TZNAME:CET
DTSTART:20251026T010000
END:STANDARD
BEGIN:DAYLIGHT
TZOFFSETFROM:+0100
TZOFFSETTO:+0200
TZNAME:CEST
DTSTART:20260329T010000
END:DAYLIGHT
BEGIN:STANDARD
TZOFFSETFROM:+0200
TZOFFSETTO:+0100
TZNAME:CET
DTSTART:20261025T010000
END:STANDARD
BEGIN:DAYLIGHT
TZOFFSETFROM:+0100
TZOFFSETTO:+0200
TZNAME:CEST
DTSTART:20270328T010000
END:DAYLIGHT
BEGIN:STANDARD
TZOFFSETFROM:+0200
TZOFFSETTO:+0100
TZNAME:CET
DTSTART:20271031T010000
END:STANDARD
END:VTIMEZONE
BEGIN:VEVENT
DTSTART;VALUE=DATE:20260124
DTEND;VALUE=DATE:20260126
DTSTAMP:20260421T232113
CREATED:20260111T143252Z
LAST-MODIFIED:20260119T161322Z
UID:1634-1769212800-1769385599@foret-d-etoiles.ch
SUMMARY:Stage Reiki - Niveau 2
DESCRIPTION:Niveau 2 : cette seconde étape permet à l’élève de transmettre le Reiki aux autres. Il reçoit deux initiations\, ainsi que les symboles sacrés qui sont des clés\, des catalyseurs de l’énergie lui permettant de la diriger à différents niveaux de l’être ainsi qu’à distance dans le temps et l’espace.
URL:https://foret-d-etoiles.ch/event/stage-reiki-niveau-2/
LOCATION:Cabinet Forêt d’Étoiles\, Rue du Château 12\, La Sarraz\, Vaud\, 1315\, Switzerland
CATEGORIES:Reiki
ATTACH;FMTTYPE=image/jpeg:https://foret-d-etoiles.ch/wp-content/uploads/2026/01/Stage-Reiki-2.jpeg
END:VEVENT
END:VCALENDAR