BEGIN:VCALENDAR
VERSION:2.0
PRODID:-//Forêt d&#039;Étoiles - ECPv6.15.18//NONSGML v1.0//EN
CALSCALE:GREGORIAN
METHOD:PUBLISH
X-ORIGINAL-URL:https://foret-d-etoiles.ch
X-WR-CALDESC:Évènements pour Forêt d&#039;Étoiles
REFRESH-INTERVAL;VALUE=DURATION:PT1H
X-Robots-Tag:noindex
X-PUBLISHED-TTL:PT1H
BEGIN:VTIMEZONE
TZID:Europe/Amsterdam
BEGIN:DAYLIGHT
TZOFFSETFROM:+0100
TZOFFSETTO:+0200
TZNAME:CEST
DTSTART:20250330T010000
END:DAYLIGHT
BEGIN:STANDARD
TZOFFSETFROM:+0200
TZOFFSETTO:+0100
TZNAME:CET
DTSTART:20251026T010000
END:STANDARD
BEGIN:DAYLIGHT
TZOFFSETFROM:+0100
TZOFFSETTO:+0200
TZNAME:CEST
DTSTART:20260329T010000
END:DAYLIGHT
BEGIN:STANDARD
TZOFFSETFROM:+0200
TZOFFSETTO:+0100
TZNAME:CET
DTSTART:20261025T010000
END:STANDARD
BEGIN:DAYLIGHT
TZOFFSETFROM:+0100
TZOFFSETTO:+0200
TZNAME:CEST
DTSTART:20270328T010000
END:DAYLIGHT
BEGIN:STANDARD
TZOFFSETFROM:+0200
TZOFFSETTO:+0100
TZNAME:CET
DTSTART:20271031T010000
END:STANDARD
END:VTIMEZONE
BEGIN:VEVENT
DTSTART;TZID=Europe/Amsterdam:20260305T193000
DTEND;TZID=Europe/Amsterdam:20260305T223000
DTSTAMP:20260421T201444
CREATED:20260111T143800Z
LAST-MODIFIED:20260127T101239Z
UID:1640-1772739000-1772749800@foret-d-etoiles.ch
SUMMARY:Cercle des 13 Mères
DESCRIPTION:Celle qui Pèse la Vérité \nCercle 2026 Complet
URL:https://foret-d-etoiles.ch/event/cercle-des-13-meres-3/
LOCATION:Cabinet Forêt d’Étoiles\, Rue du Château 12\, La Sarraz\, Vaud\, 1315\, Switzerland
CATEGORIES:Cercles des 13 Mères
ATTACH;FMTTYPE=image/png:https://foret-d-etoiles.ch/wp-content/uploads/2026/01/3eme-mere.png
END:VEVENT
END:VCALENDAR