BEGIN:VCALENDAR
VERSION:2.0
PRODID:-//Forêt d&#039;Étoiles - ECPv6.15.18//NONSGML v1.0//EN
CALSCALE:GREGORIAN
METHOD:PUBLISH
X-ORIGINAL-URL:https://foret-d-etoiles.ch
X-WR-CALDESC:Évènements pour Forêt d&#039;Étoiles
REFRESH-INTERVAL;VALUE=DURATION:PT1H
X-Robots-Tag:noindex
X-PUBLISHED-TTL:PT1H
BEGIN:VTIMEZONE
TZID:Europe/Amsterdam
BEGIN:DAYLIGHT
TZOFFSETFROM:+0100
TZOFFSETTO:+0200
TZNAME:CEST
DTSTART:20250330T010000
END:DAYLIGHT
BEGIN:STANDARD
TZOFFSETFROM:+0200
TZOFFSETTO:+0100
TZNAME:CET
DTSTART:20251026T010000
END:STANDARD
BEGIN:DAYLIGHT
TZOFFSETFROM:+0100
TZOFFSETTO:+0200
TZNAME:CEST
DTSTART:20260329T010000
END:DAYLIGHT
BEGIN:STANDARD
TZOFFSETFROM:+0200
TZOFFSETTO:+0100
TZNAME:CET
DTSTART:20261025T010000
END:STANDARD
BEGIN:DAYLIGHT
TZOFFSETFROM:+0100
TZOFFSETTO:+0200
TZNAME:CEST
DTSTART:20270328T010000
END:DAYLIGHT
BEGIN:STANDARD
TZOFFSETFROM:+0200
TZOFFSETTO:+0100
TZNAME:CET
DTSTART:20271031T010000
END:STANDARD
END:VTIMEZONE
BEGIN:VEVENT
DTSTART;TZID=Europe/Amsterdam:20260610T140000
DTEND;TZID=Europe/Amsterdam:20260610T150000
DTSTAMP:20260421T145726
CREATED:20260324T125207Z
LAST-MODIFIED:20260324T125207Z
UID:2910-1781100000-1781103600@foret-d-etoiles.ch
SUMMARY:Contes de l'été
DESCRIPTION:Bienvenue à 14h à la bibliothèque d’Ecublens pour une heure de voyage sur les ailes des contes de saison. \nTout public dès 4 ans
URL:https://foret-d-etoiles.ch/event/contes-de-lete/
LOCATION:Bibliothèque Ecublens\, Rte de Bois 27\, Ecublens\, Vaud\, 1024\, Switzerland
CATEGORIES:Contes
ATTACH;FMTTYPE=image/jpeg:https://foret-d-etoiles.ch/wp-content/uploads/2026/01/Stage-de-Contes.jpeg
END:VEVENT
END:VCALENDAR