BEGIN:VCALENDAR
VERSION:2.0
PRODID:-//Forêt d&#039;Étoiles - ECPv6.15.18//NONSGML v1.0//EN
CALSCALE:GREGORIAN
METHOD:PUBLISH
X-WR-CALNAME:Forêt d&#039;Étoiles
X-ORIGINAL-URL:https://foret-d-etoiles.ch
X-WR-CALDESC:Évènements pour Forêt d&#039;Étoiles
REFRESH-INTERVAL;VALUE=DURATION:PT1H
X-Robots-Tag:noindex
X-PUBLISHED-TTL:PT1H
BEGIN:VTIMEZONE
TZID:Europe/Amsterdam
BEGIN:DAYLIGHT
TZOFFSETFROM:+0100
TZOFFSETTO:+0200
TZNAME:CEST
DTSTART:20250330T010000
END:DAYLIGHT
BEGIN:STANDARD
TZOFFSETFROM:+0200
TZOFFSETTO:+0100
TZNAME:CET
DTSTART:20251026T010000
END:STANDARD
BEGIN:DAYLIGHT
TZOFFSETFROM:+0100
TZOFFSETTO:+0200
TZNAME:CEST
DTSTART:20260329T010000
END:DAYLIGHT
BEGIN:STANDARD
TZOFFSETFROM:+0200
TZOFFSETTO:+0100
TZNAME:CET
DTSTART:20261025T010000
END:STANDARD
BEGIN:DAYLIGHT
TZOFFSETFROM:+0100
TZOFFSETTO:+0200
TZNAME:CEST
DTSTART:20270328T010000
END:DAYLIGHT
BEGIN:STANDARD
TZOFFSETFROM:+0200
TZOFFSETTO:+0100
TZNAME:CET
DTSTART:20271031T010000
END:STANDARD
END:VTIMEZONE
BEGIN:VEVENT
DTSTART;VALUE=DATE:20260613
DTEND;VALUE=DATE:20260614
DTSTAMP:20260421T163951
CREATED:20260111T150043Z
LAST-MODIFIED:20260117T161016Z
UID:1668-1781308800-1781395199@foret-d-etoiles.ch
SUMMARY:Yoni Power 3
DESCRIPTION:Yoni Power c’est 3 journées pour explorer\, individuellement et en petit groupe des structures en souffle\, en mouvement\, des actes symboliques ou rituels forts dans la beauté et la profondeur.\n💃🏻🔥💃🏻🔥💃🏻🔥💃🏻🔥💃🏻\nUn voyage par étapes pour te laisser le temps de l’intégration\, un rythme à l’écoute pour aller dans l’inconnu de manière sécure\, développer ton ancrage\, ta conscience corporelle\, ressentir et entrer en relation guérisseuse et alignée avec ton intimité de femme.\n🔻🌀🔻🌀🔻🌀🔻🌀\nOser être toi même\, t’accueillir pleinement\, te libérer de certains conditionnements collectifs et/ou individuels pour accéder à ton plein potentiel. En corps.\n🌹☀️🌹☀️🌹☀️🌹☀️\nMarielle et Julie t’accompagnent dans cette traversée vers l’épanouissement de ta puissance féminine\, leurs années d’explorations dans le tantra et le chamanisme donnent la couleur à cette invitation qui s’appuie sur leurs années d’accompagnement des femmes 🌹❤️ \nSi l’appel est là \, sens-toi libre de me contacter pour plus d’infos . \nBienvenue 💃🏻
URL:https://foret-d-etoiles.ch/event/yoni-power-3/
LOCATION:Espace Ekilibre\, Chemin de Cornu 11\, Saint Saphorin-sur-Morges\, Vaud\, 1113\, Switzerland
CATEGORIES:Stages
ATTACH;FMTTYPE=image/jpeg:https://foret-d-etoiles.ch/wp-content/uploads/2026/01/Stage-yoni-power.jpeg
END:VEVENT
END:VCALENDAR