BEGIN:VCALENDAR
VERSION:2.0
PRODID:-//Forêt d&#039;Étoiles - ECPv6.15.18//NONSGML v1.0//EN
CALSCALE:GREGORIAN
METHOD:PUBLISH
X-ORIGINAL-URL:https://foret-d-etoiles.ch
X-WR-CALDESC:Évènements pour Forêt d&#039;Étoiles
REFRESH-INTERVAL;VALUE=DURATION:PT1H
X-Robots-Tag:noindex
X-PUBLISHED-TTL:PT1H
BEGIN:VTIMEZONE
TZID:Europe/Amsterdam
BEGIN:DAYLIGHT
TZOFFSETFROM:+0100
TZOFFSETTO:+0200
TZNAME:CEST
DTSTART:20250330T010000
END:DAYLIGHT
BEGIN:STANDARD
TZOFFSETFROM:+0200
TZOFFSETTO:+0100
TZNAME:CET
DTSTART:20251026T010000
END:STANDARD
BEGIN:DAYLIGHT
TZOFFSETFROM:+0100
TZOFFSETTO:+0200
TZNAME:CEST
DTSTART:20260329T010000
END:DAYLIGHT
BEGIN:STANDARD
TZOFFSETFROM:+0200
TZOFFSETTO:+0100
TZNAME:CET
DTSTART:20261025T010000
END:STANDARD
BEGIN:DAYLIGHT
TZOFFSETFROM:+0100
TZOFFSETTO:+0200
TZNAME:CEST
DTSTART:20270328T010000
END:DAYLIGHT
BEGIN:STANDARD
TZOFFSETFROM:+0200
TZOFFSETTO:+0100
TZNAME:CET
DTSTART:20271031T010000
END:STANDARD
END:VTIMEZONE
BEGIN:VEVENT
DTSTART;TZID=Europe/Amsterdam:20260402T193000
DTEND;TZID=Europe/Amsterdam:20260402T223000
DTSTAMP:20260421T081537
CREATED:20260111T145016Z
LAST-MODIFIED:20260127T101307Z
UID:1651-1775158200-1775169000@foret-d-etoiles.ch
SUMMARY:Cercle des 13 Mères
DESCRIPTION:Celle qui Voit Loin \nCercle 2026 Complet
URL:https://foret-d-etoiles.ch/event/cercle-des-13-meres-4/
LOCATION:Cabinet Forêt d’Étoiles\, Rue du Château 12\, La Sarraz\, Vaud\, 1315\, Switzerland
CATEGORIES:Cercles des 13 Mères
ATTACH;FMTTYPE=image/png:https://foret-d-etoiles.ch/wp-content/uploads/2026/01/4eme-mere.png
END:VEVENT
BEGIN:VEVENT
DTSTART;TZID=Europe/Amsterdam:20260319T193000
DTEND;TZID=Europe/Amsterdam:20260319T223000
DTSTAMP:20260421T081537
CREATED:20260111T144011Z
LAST-MODIFIED:20260119T164225Z
UID:1642-1773948600-1773959400@foret-d-etoiles.ch
SUMMARY:Cercle Equinoxe
DESCRIPTION:Tribu des 13 mères 2025 – Célébration de l’équinoxe.
URL:https://foret-d-etoiles.ch/event/cercle-equinoxe/
LOCATION:Cabinet Forêt d’Étoiles\, Rue du Château 12\, La Sarraz\, Vaud\, 1315\, Switzerland
CATEGORIES:Autres Cercles
ATTACH;FMTTYPE=image/jpeg:https://foret-d-etoiles.ch/wp-content/uploads/2026/01/Cercle-Equinoxe.jpeg
END:VEVENT
BEGIN:VEVENT
DTSTART;TZID=Europe/Amsterdam:20260305T193000
DTEND;TZID=Europe/Amsterdam:20260305T223000
DTSTAMP:20260421T081537
CREATED:20260111T143800Z
LAST-MODIFIED:20260127T101239Z
UID:1640-1772739000-1772749800@foret-d-etoiles.ch
SUMMARY:Cercle des 13 Mères
DESCRIPTION:Celle qui Pèse la Vérité \nCercle 2026 Complet
URL:https://foret-d-etoiles.ch/event/cercle-des-13-meres-3/
LOCATION:Cabinet Forêt d’Étoiles\, Rue du Château 12\, La Sarraz\, Vaud\, 1315\, Switzerland
CATEGORIES:Cercles des 13 Mères
ATTACH;FMTTYPE=image/png:https://foret-d-etoiles.ch/wp-content/uploads/2026/01/3eme-mere.png
END:VEVENT
BEGIN:VEVENT
DTSTART;TZID=Europe/Amsterdam:20260214T193000
DTEND;TZID=Europe/Amsterdam:20260214T210000
DTSTAMP:20260421T081537
CREATED:20260111T142627Z
LAST-MODIFIED:20260130T093943Z
UID:1629-1771097400-1771102800@foret-d-etoiles.ch
SUMMARY:Contes pour adultes
DESCRIPTION:🌹C’est avec un doux plaisir que Mireille et Julie vous préparent une soirée hors du commun. \n🌹Alliant désir\, humour \, amour\, et poésie\, elles vous emmènent dans les contes qui font la place belle à la nature sensuelle\, charnelle\, et amoureuse de l’humain. \n🌹N’est -ce pas un beau cocktail pour passer la St-Valentin ? \n🍒Cerise sur ce délicieux gâteau : Monika viendra ravir vos oreilles émoustillées avec les mélodies enchantées de son hang drum. \n🌹Bienvenue au cabinet Forêt d’étoiles à La Sarraz\, le 14 février à 19h30. \n💝Tisanes et douceurs\, délicates odeurs pour votre bonheur. \n✨Échange en argent de 35 francs\,\nLes places étant limitées\, inscrivez-vous rapidement 🙏🏻
URL:https://foret-d-etoiles.ch/event/contes-pour-adultes/
LOCATION:Cabinet Forêt d’Étoiles\, Rue du Château 12\, La Sarraz\, Vaud\, 1315\, Switzerland
CATEGORIES:Contes
ATTACH;FMTTYPE=image/jpeg:https://foret-d-etoiles.ch/wp-content/uploads/2026/01/stage-contes-adulte-st-valentin.jpeg
END:VEVENT
BEGIN:VEVENT
DTSTART;TZID=Europe/Amsterdam:20260211T193000
DTEND;TZID=Europe/Amsterdam:20260211T213000
DTSTAMP:20260421T081537
CREATED:20260111T143633Z
LAST-MODIFIED:20260119T161635Z
UID:1638-1770838200-1770845400@foret-d-etoiles.ch
SUMMARY:Soirée Reiki
DESCRIPTION:Quatre soirées sont proposées par année au cabinet pour les anciens élèves qui souhaitent rester en lien\, pratiquer\, échanger et rafraîchir leur pratique. \n40 CHF par soir.
URL:https://foret-d-etoiles.ch/event/soiree-reiki/
LOCATION:Cabinet Forêt d’Étoiles\, Rue du Château 12\, La Sarraz\, Vaud\, 1315\, Switzerland
CATEGORIES:Reiki
ATTACH;FMTTYPE=image/jpeg:https://foret-d-etoiles.ch/wp-content/uploads/2026/01/stage-reiki.jpeg
END:VEVENT
BEGIN:VEVENT
DTSTART;TZID=Europe/Amsterdam:20260205T193000
DTEND;TZID=Europe/Amsterdam:20260205T223000
DTSTAMP:20260421T081537
CREATED:20260111T143428Z
LAST-MODIFIED:20260127T101218Z
UID:1636-1770319800-1770330600@foret-d-etoiles.ch
SUMMARY:Cercle des 13 Mères
DESCRIPTION:La gardienne de la sagesse. \nCercle 2026 Complet
URL:https://foret-d-etoiles.ch/event/cercle-des-13-meres-2/
LOCATION:Cabinet Forêt d’Étoiles\, Rue du Château 12\, La Sarraz\, Vaud\, 1315\, Switzerland
CATEGORIES:Cercles des 13 Mères
ATTACH;FMTTYPE=image/png:https://foret-d-etoiles.ch/wp-content/uploads/2026/01/2eme-mere.png
END:VEVENT
BEGIN:VEVENT
DTSTART;VALUE=DATE:20260124
DTEND;VALUE=DATE:20260126
DTSTAMP:20260421T081537
CREATED:20260111T143252Z
LAST-MODIFIED:20260119T161322Z
UID:1634-1769212800-1769385599@foret-d-etoiles.ch
SUMMARY:Stage Reiki - Niveau 2
DESCRIPTION:Niveau 2 : cette seconde étape permet à l’élève de transmettre le Reiki aux autres. Il reçoit deux initiations\, ainsi que les symboles sacrés qui sont des clés\, des catalyseurs de l’énergie lui permettant de la diriger à différents niveaux de l’être ainsi qu’à distance dans le temps et l’espace.
URL:https://foret-d-etoiles.ch/event/stage-reiki-niveau-2/
LOCATION:Cabinet Forêt d’Étoiles\, Rue du Château 12\, La Sarraz\, Vaud\, 1315\, Switzerland
CATEGORIES:Reiki
ATTACH;FMTTYPE=image/jpeg:https://foret-d-etoiles.ch/wp-content/uploads/2026/01/Stage-Reiki-2.jpeg
END:VEVENT
BEGIN:VEVENT
DTSTART;TZID=Europe/Amsterdam:20260115T193000
DTEND;TZID=Europe/Amsterdam:20260115T223000
DTSTAMP:20260421T081537
CREATED:20260111T142902Z
LAST-MODIFIED:20260127T101156Z
UID:1632-1768505400-1768516200@foret-d-etoiles.ch
SUMMARY:Cercle des 13 Mères
DESCRIPTION:Celle qui parle à ses proches \n1er Cercle de la Tribu 2026. \nCercle 2026 Complet
URL:https://foret-d-etoiles.ch/event/cercle-des-13-meres/
LOCATION:Vaud
CATEGORIES:Cercles des 13 Mères
ATTACH;FMTTYPE=image/png:https://foret-d-etoiles.ch/wp-content/uploads/2026/01/1ere-mere.png
END:VEVENT
BEGIN:VEVENT
DTSTART;TZID=Europe/Amsterdam:20260108T190000
DTEND;TZID=Europe/Amsterdam:20260108T230000
DTSTAMP:20260421T081537
CREATED:20260108T173217Z
LAST-MODIFIED:20260109T092106Z
UID:1143-1767898800-1767913200@foret-d-etoiles.ch
SUMMARY:Dernier cercle ce la 13ième Mère 2025
DESCRIPTION:La clôture du groupe de cercle des 13 mères avec séances mensuelles\, sera célébré le jeudi 8 janvier\, 2026.
URL:https://foret-d-etoiles.ch/event/dernier-cercle-ce-la-13ieme-mere-2025/
LOCATION:Cabinet Forêt d’Étoiles\, Rue du Château 12\, La Sarraz\, Vaud\, 1315\, Switzerland
CATEGORIES:Cercles des 13 Mères
END:VEVENT
END:VCALENDAR