BEGIN:VCALENDAR
VERSION:2.0
PRODID:-//Forêt d&#039;Étoiles - ECPv6.15.18//NONSGML v1.0//EN
CALSCALE:GREGORIAN
METHOD:PUBLISH
X-ORIGINAL-URL:https://foret-d-etoiles.ch
X-WR-CALDESC:Évènements pour Forêt d&#039;Étoiles
REFRESH-INTERVAL;VALUE=DURATION:PT1H
X-Robots-Tag:noindex
X-PUBLISHED-TTL:PT1H
BEGIN:VTIMEZONE
TZID:Europe/Amsterdam
BEGIN:DAYLIGHT
TZOFFSETFROM:+0100
TZOFFSETTO:+0200
TZNAME:CEST
DTSTART:20250330T010000
END:DAYLIGHT
BEGIN:STANDARD
TZOFFSETFROM:+0200
TZOFFSETTO:+0100
TZNAME:CET
DTSTART:20251026T010000
END:STANDARD
BEGIN:DAYLIGHT
TZOFFSETFROM:+0100
TZOFFSETTO:+0200
TZNAME:CEST
DTSTART:20260329T010000
END:DAYLIGHT
BEGIN:STANDARD
TZOFFSETFROM:+0200
TZOFFSETTO:+0100
TZNAME:CET
DTSTART:20261025T010000
END:STANDARD
BEGIN:DAYLIGHT
TZOFFSETFROM:+0100
TZOFFSETTO:+0200
TZNAME:CEST
DTSTART:20270328T010000
END:DAYLIGHT
BEGIN:STANDARD
TZOFFSETFROM:+0200
TZOFFSETTO:+0100
TZNAME:CET
DTSTART:20271031T010000
END:STANDARD
END:VTIMEZONE
BEGIN:VEVENT
DTSTART;VALUE=DATE:20260502
DTEND;VALUE=DATE:20260504
DTSTAMP:20260421T100628
CREATED:20260111T145330Z
LAST-MODIFIED:20260223T091430Z
UID:1657-1777680000-1777852799@foret-d-etoiles.ch
SUMMARY:Reiki Niveau 3
DESCRIPTION:Le 3 ième degré de Reiki Usui est le niveau dit de maîtrise et des outils de guérison avancés.\nJe suis vraiment ravie de le proposer dans ce week-end de Wesak ( célébration bouddhiste de naissance du bouddha ) qui tombe cette année en même temps que Beltane ( fête cardinale celtique de la lumière\, de l’énergie subtile).\nCes énergies lumineuses vous accompagneront pour :découvrir et intégrer le symbole du maîtreaffiner et prendre confiance dans les ressentis et la guidance intuitiveapprendre le soin avec les cristauxles grilles énergétiques cristaux et symboles sacréspratiquer la chirurgie psychique \, outil de transformation puissantrecevoir 2 initiations et augmenter votre taux vibratoire\nBienvenue aux personnes ayant été initiées aux niveaux 1 et 2\, à poursuivre votre chemin avec le cadeau du Reiki
URL:https://foret-d-etoiles.ch/event/reiki-niveau-3/
LOCATION:Cabinet Forêt d’Étoiles\, Rue du Château 12\, La Sarraz\, Vaud\, 1315\, Switzerland
CATEGORIES:Reiki
ATTACH;FMTTYPE=image/jpeg:https://foret-d-etoiles.ch/wp-content/uploads/2026/01/Reiki3.jpeg
END:VEVENT
BEGIN:VEVENT
DTSTART;TZID=Europe/Amsterdam:20260507T193000
DTEND;TZID=Europe/Amsterdam:20260507T223000
DTSTAMP:20260421T100628
CREATED:20260127T103221Z
LAST-MODIFIED:20260127T103221Z
UID:2612-1778182200-1778193000@foret-d-etoiles.ch
SUMMARY:Cercle des 13 Mères
DESCRIPTION:Celle qui écoute \nCercle 2026 complet.
URL:https://foret-d-etoiles.ch/event/cercle-des-13-meres-5/
LOCATION:Cabinet Forêt d’Étoiles\, Rue du Château 12\, La Sarraz\, Vaud\, 1315\, Switzerland
CATEGORIES:Cercles des 13 Mères
ATTACH;FMTTYPE=image/png:https://foret-d-etoiles.ch/wp-content/uploads/2026/01/5eme-mere.png
END:VEVENT
BEGIN:VEVENT
DTSTART;TZID=Europe/Amsterdam:20260520T193000
DTEND;TZID=Europe/Amsterdam:20260520T213000
DTSTAMP:20260421T100628
CREATED:20260111T145528Z
LAST-MODIFIED:20260119T162031Z
UID:1661-1779305400-1779312600@foret-d-etoiles.ch
SUMMARY:Soirée Reiki
DESCRIPTION:Quatre soirées sont proposées par année au cabinet pour les anciens élèves qui souhaitent rester en lien\, pratiquer\, échanger et rafraîchir leur pratique. \n40 CHF
URL:https://foret-d-etoiles.ch/event/soiree-reiki-2/
LOCATION:Cabinet Forêt d’Étoiles\, Rue du Château 12\, La Sarraz\, Vaud\, 1315\, Switzerland
CATEGORIES:Reiki
ATTACH;FMTTYPE=image/jpeg:https://foret-d-etoiles.ch/wp-content/uploads/2026/01/stage-reiki.jpeg
END:VEVENT
BEGIN:VEVENT
DTSTART;VALUE=DATE:20260530
DTEND;VALUE=DATE:20260601
DTSTAMP:20260421T100628
CREATED:20260111T145856Z
LAST-MODIFIED:20260223T090539Z
UID:1663-1780099200-1780271999@foret-d-etoiles.ch
SUMMARY:Retraite Femmes - Médecine des 13 Mères
DESCRIPTION:🌀Une retraite de femmes d’intégration de la médecine des Mères.\n🦋Tu es quand tu décides d’être 🦋 \nDans un lieu cocoon\, en pleine nature\, où nous sommes accueillies\, choyées et bien nourries le temps d’un week-end dans la générosité du mois de mai 🌺… \nVivons ensemble le corps en mouvement\, le retour à soi\, à la nature\, au subtil \, les voyages au tambour\, les rituels symboliques dans la force du groupe\, échanges \, partages \, rires\, profondeur et soutien pour que chacune ressente et reparte avec l’élan d’incarner sa médecine \, la note qui lui est propre dans la grande mélodie de la vie.\n🌹Par une sororité bienveillante\, nous restaurons le féminin en nous \, autour de nous \, pour la guérison de la Terre et la conscience de l’humanité❤️ \nSi le cœur t’appelle \, rejoins – nous les 30 et 31 mai en France toute proche 💐 \nPour toute question\, contacte moi. \nBienvenue
URL:https://foret-d-etoiles.ch/event/retraite-femmes/
LOCATION:Ressource Nature\, 10 Rue Principale\, Châtelneuf\, 39300\, France
CATEGORIES:Stages
ATTACH;FMTTYPE=image/jpeg:https://foret-d-etoiles.ch/wp-content/uploads/2026/01/Julie-Stage-de-Femme.jpeg
END:VEVENT
END:VCALENDAR