BEGIN:VCALENDAR
VERSION:2.0
PRODID:-//Forêt d&#039;Étoiles - ECPv6.15.18//NONSGML v1.0//EN
CALSCALE:GREGORIAN
METHOD:PUBLISH
X-WR-CALNAME:Forêt d&#039;Étoiles
X-ORIGINAL-URL:https://foret-d-etoiles.ch
X-WR-CALDESC:Évènements pour Forêt d&#039;Étoiles
REFRESH-INTERVAL;VALUE=DURATION:PT1H
X-Robots-Tag:noindex
X-PUBLISHED-TTL:PT1H
BEGIN:VTIMEZONE
TZID:Europe/Amsterdam
BEGIN:DAYLIGHT
TZOFFSETFROM:+0100
TZOFFSETTO:+0200
TZNAME:CEST
DTSTART:20250330T010000
END:DAYLIGHT
BEGIN:STANDARD
TZOFFSETFROM:+0200
TZOFFSETTO:+0100
TZNAME:CET
DTSTART:20251026T010000
END:STANDARD
BEGIN:DAYLIGHT
TZOFFSETFROM:+0100
TZOFFSETTO:+0200
TZNAME:CEST
DTSTART:20260329T010000
END:DAYLIGHT
BEGIN:STANDARD
TZOFFSETFROM:+0200
TZOFFSETTO:+0100
TZNAME:CET
DTSTART:20261025T010000
END:STANDARD
BEGIN:DAYLIGHT
TZOFFSETFROM:+0100
TZOFFSETTO:+0200
TZNAME:CEST
DTSTART:20270328T010000
END:DAYLIGHT
BEGIN:STANDARD
TZOFFSETFROM:+0200
TZOFFSETTO:+0100
TZNAME:CET
DTSTART:20271031T010000
END:STANDARD
END:VTIMEZONE
BEGIN:VEVENT
DTSTART;TZID=Europe/Amsterdam:20261209T140000
DTEND;TZID=Europe/Amsterdam:20261209T150000
DTSTAMP:20260422T111759
CREATED:20260406T135748Z
LAST-MODIFIED:20260406T140814Z
UID:2919-1796824800-1796828400@foret-d-etoiles.ch
SUMMARY:Contes d'hiver
DESCRIPTION:Bienvenue à 14h à la bibliothèque d’Ecublens pour une heure de voyage sur les ailes des contes de saison. Tout public dès 4 ans
URL:https://foret-d-etoiles.ch/event/contes-de-lhiver/
LOCATION:Bibliothèque Ecublens\, Rte de Bois 27\, Ecublens\, Vaud\, 1024\, Switzerland
CATEGORIES:Contes
ATTACH;FMTTYPE=image/webp:https://foret-d-etoiles.ch/wp-content/uploads/2026/04/magie-d-hiver.webp
END:VEVENT
BEGIN:VEVENT
DTSTART;TZID=Europe/Amsterdam:20261212T133000
DTEND;TZID=Europe/Amsterdam:20261212T143000
DTSTAMP:20260422T111759
CREATED:20260406T140715Z
LAST-MODIFIED:20260406T140715Z
UID:2923-1797082200-1797085800@foret-d-etoiles.ch
SUMMARY:Contes d'hiver
DESCRIPTION:Bienvenue à tous pour des contes d’hiver dans l’esprit de Noël au marché de Noël de Vallorbe.
URL:https://foret-d-etoiles.ch/event/contes-dhiver/
LOCATION:Bibliothèque de Vallorbe\, Grand-Rue 24\, Vallorbe\, Vaud\, 1337\, Switzerland
CATEGORIES:Contes
ATTACH;FMTTYPE=image/jpeg:https://foret-d-etoiles.ch/wp-content/uploads/2026/01/Equinoxe-automne.jpeg
END:VEVENT
BEGIN:VEVENT
DTSTART;TZID=Europe/Amsterdam:20261217T193000
DTEND;TZID=Europe/Amsterdam:20261217T223000
DTSTAMP:20260422T111759
CREATED:20260111T152006Z
LAST-MODIFIED:20260127T103627Z
UID:1697-1797535800-1797546600@foret-d-etoiles.ch
SUMMARY:Cercle des 13 Mères
DESCRIPTION:Celle qui Devient sa Vision \nCercle 2026 Complet
URL:https://foret-d-etoiles.ch/event/cercle-des-13-meres-13/
LOCATION:Cabinet Forêt d’Étoiles\, Rue du Château 12\, La Sarraz\, Vaud\, 1315\, Switzerland
CATEGORIES:Cercles des 13 Mères
ATTACH;FMTTYPE=image/png:https://foret-d-etoiles.ch/wp-content/uploads/2026/01/13eme-mere.png
END:VEVENT
END:VCALENDAR